BEGIN:VCALENDAR
VERSION:2.0
PRODID:-//VIM House - ECPv6.9.0//NONSGML v1.0//EN
CALSCALE:GREGORIAN
METHOD:PUBLISH
X-WR-CALNAME:VIM House
X-ORIGINAL-URL:https://vimhouse.ca
X-WR-CALDESC:Events for VIM House
REFRESH-INTERVAL;VALUE=DURATION:PT1H
X-Robots-Tag:noindex
X-PUBLISHED-TTL:PT1H
BEGIN:VTIMEZONE
TZID:America/Vancouver
BEGIN:DAYLIGHT
TZOFFSETFROM:-0800
TZOFFSETTO:-0700
TZNAME:PDT
DTSTART:20220313T100000
END:DAYLIGHT
BEGIN:STANDARD
TZOFFSETFROM:-0700
TZOFFSETTO:-0800
TZNAME:PST
DTSTART:20221106T090000
END:STANDARD
END:VTIMEZONE
BEGIN:VEVENT
DTSTART;TZID=America/Vancouver:20220813T193000
DTEND;TZID=America/Vancouver:20220813T210000
DTSTAMP:20260424T131141
CREATED:20221203T010153Z
LAST-MODIFIED:20221202T230115Z
UID:2185-1660419000-1660424400@vimhouse.ca
SUMMARY:Curtis Clear Sky & Constellationz
DESCRIPTION:Uplifting empowering Indigenous narrative with funky grooves consisting of hip-hop\, funk\, blues & soul. \nCurtis Clear Sky: lead vocals\nTia Taurere-Clear Sky: supporting vocals\nTerran Eason: drums\nTai Quinn Whyte: keyboard\nPeter Beach: bass\nBeaver Thomas: guitar \n\n\n\n	\n\n\n\n\n\n\n\n\n\nCurtis Clear Sky and the Constellationz captivate audiences with their funky rhythms\, thundering percussion\, blasting horns\, soulful harmonies\, dicing & slicing DJ with empowering lyrics that gratify your soul. Curtis and his band’s highly-engaging performances make you “bump with the booming blasting blare” and you’ll be “moving your feet like you don’t care.” \nconstellationz.com \n\n\n\n\n\n\n\n\n\n\n  \n\n\n\n	For more information and tickets: www.firehallartscentre.ca or call the Firehall Box Office at 604.689.0926
URL:https://vimhouse.ca/event/curtis-clear-sky-constellationz/
LOCATION:Firehall Arts Centre\, 280 East Cordova Street\, Vancouver\, British Columbia\, V6A 1L3\, Canada
CATEGORIES:Music in the Courtyard
ATTACH;FMTTYPE=image/jpeg:https://vimhouse.ca/wordpress/wp-content/uploads/2022/12/Courtyard-2022-1280X720-CCS.jpg
ORGANIZER;CN="VIM House":MAILTO:info(at)vimhouse.ca
END:VEVENT
END:VCALENDAR