BEGIN:VCALENDAR
VERSION:2.0
PRODID:-//VIM House - ECPv6.9.0//NONSGML v1.0//EN
CALSCALE:GREGORIAN
METHOD:PUBLISH
X-WR-CALNAME:VIM House
X-ORIGINAL-URL:https://vimhouse.ca
X-WR-CALDESC:Events for VIM House
REFRESH-INTERVAL;VALUE=DURATION:PT1H
X-Robots-Tag:noindex
X-PUBLISHED-TTL:PT1H
BEGIN:VTIMEZONE
TZID:America/Vancouver
BEGIN:DAYLIGHT
TZOFFSETFROM:-0800
TZOFFSETTO:-0700
TZNAME:PDT
DTSTART:20230312T100000
END:DAYLIGHT
BEGIN:STANDARD
TZOFFSETFROM:-0700
TZOFFSETTO:-0800
TZNAME:PST
DTSTART:20231105T090000
END:STANDARD
END:VTIMEZONE
BEGIN:VEVENT
DTSTART;TZID=America/Vancouver:20230427T193000
DTEND;TZID=America/Vancouver:20230427T223000
DTSTAMP:20260424T105051
CREATED:20230127T000438Z
LAST-MODIFIED:20230127T000438Z
UID:2495-1682623800-1682634600@vimhouse.ca
SUMMARY:Feven Kidane Trio / Longhand Trio featuring Zubot Brothers
DESCRIPTION:A concert featuring the Longhand Trio with Jesse and Joshua Zubot and the Feven Kidane Trio. \n\nVancouver Independent Music Centre (VIM) in partnership with the Fox Cabaret presents: \nDouble Bill: Feven Kidane Trio / Longhand Trio featuring Zubot Brothers\nThursday\, April 27th\, 2023 | Doors: 7:00 pm | Show: 7:30 pm | Fox Cabaret \nPlease note: all events at the Fox Cabaret are 19+ \nTickets in advance (sliding scale): $15\, $20\, $25 \nTickets at the door: pay what you can*** \n***Tickets at the door are subject to availability. Purchasing tickets in advance is highly recommended. \nGet Your Tickets Here \nFeven Kidane Trio\nElectricity meets fusion to create original sound: trumpeter Feven Kidane partners up with bassist Cole Woodland and drummer Todd Stewart for a powerful version of the Feven Kidane Trio. Incorporating elements of free improvisation and jazz\, this trio works in seamless synergy to bring powerful heat to one’s ears. Not a band to miss! \nA budding artist on the West Coast\, Kidane is a multi-instrumentalist\, musical electronicist\, composer\, and arranger based out of Musqueam/Squamish/Tsleil-Waututh territory. Inspired by the art of Blackness\, her practice revolves around decolonization\, spirituality\, and the complexities of human experience. \nLonghand Trio\nSaxophonist Peder Long was a little-known but extremely prolific composer who wrote hundreds of unreleased songs. In the mid-1980s\, he mentored the now-iconic West Coast guitarist Tony Wilson\, who also played in Long’s band. Decades later\, Tony’s Longhand Trio has recorded a full album of Peder’s music which they’ll present alongside special guest violinists Jesse Zubot (Tanya Tagaq) and Josh Zubot (Land of Kush). \nThe Zubots are remarkable talents who match traditional mastery of their instruments with wide-screen\, cinematic use of electronics and extended techniques. With JUNO Award winners Russell Sholberg bass and Kenton Loewen drums\, Longhand’s lyrical interpretations of Peder Long’s music border on the spiritual.
URL:https://vimhouse.ca/event/feven-kidane-trio-longhand-trio-featuring-zubot-brothers/
LOCATION:Fox Cabaret\, 2321 Main St\, Vancouver\, British Columbia\, V5T 3C9\, Canada
ATTACH;FMTTYPE=image/png:https://vimhouse.ca/wordpress/wp-content/uploads/2023/01/3-1.png
ORGANIZER;CN="VIM House":MAILTO:info(at)vimhouse.ca
END:VEVENT
END:VCALENDAR