BEGIN:VCALENDAR
VERSION:2.0
PRODID:-//VIM House - ECPv6.9.0//NONSGML v1.0//EN
CALSCALE:GREGORIAN
METHOD:PUBLISH
X-WR-CALNAME:VIM House
X-ORIGINAL-URL:https://vimhouse.ca
X-WR-CALDESC:Events for VIM House
REFRESH-INTERVAL;VALUE=DURATION:PT1H
X-Robots-Tag:noindex
X-PUBLISHED-TTL:PT1H
BEGIN:VTIMEZONE
TZID:America/Vancouver
BEGIN:DAYLIGHT
TZOFFSETFROM:-0800
TZOFFSETTO:-0700
TZNAME:PDT
DTSTART:20220313T100000
END:DAYLIGHT
BEGIN:STANDARD
TZOFFSETFROM:-0700
TZOFFSETTO:-0800
TZNAME:PST
DTSTART:20221106T090000
END:STANDARD
END:VTIMEZONE
BEGIN:VEVENT
DTSTART;TZID=America/Vancouver:20220403T193000
DTEND;TZID=America/Vancouver:20220403T193000
DTSTAMP:20260424T142420
CREATED:20221202T231337Z
LAST-MODIFIED:20221202T231609Z
UID:2347-1649014200-1649014200@vimhouse.ca
SUMMARY:Gamelan Gita Asmara + Onibana Taiko
DESCRIPTION:The Vancouver Independent Music House Society (VIM) has curated another dynamic\, wonderfully curated live music event guaranteed to thrill any music-lover. Join us at the Rio Theatre on Sunday\, April 3 for a double bill night featuring Onibana Taiko (Japanese folk music with a touch of feminist punk aesthetics) and Gamelan Gita Asmara (an ensemble that uses a new kind of Balinese gamelan set\, called “Semaradhana”). \nSunday\, April 3 \nDoors 6:30 pm | Show 7:30 pm *Please arrive on time.\nAdvance Tickets (Sliding Scale) \nOnibana Taiko\nOnibana Taiko is kick-ass taiko meets traditional Japanese folk art forms meets feminist queer punk aesthetics. We play taiko combined with our uber tactile and full-body resonating beats with the driving sounds of shamisen (Japanese Banjo)\, and soul-piercing traditional Japanese vocals and fue (a wooden flute). Onibana Taiko invites audience members to commune with our ancestors through Obon dance and music (sort of like a Buddhist Japanese Dia De Los Muertos celebration). \nNoriko Kobayashi vocals\, tsugaru shamisen\nLeslie Komori vocals\, drums\nE. Kage vocals\, drums \nwww.onibanataiko.ca\nYoutube: https://www.youtube.com/channel/UCDdXiXA6VO2hlnH1nM4IwbQ\nFacebook: https://www.facebook.com/OnibanaTaiko\nInstagram https://www.instagram.com/onibana.taiko/?hl=en \n\nGamelan Gita Asmara\nGamelan Gita Asmara is an ensemble that uses a new kind of Balinese gamelan set called Semaradhana. They are a dedicated collective committed to mastering this challenging music together\, with the rewards of making something of aesthetic and social value\, and the joy of sharing this with audiences. For this performance they will be joined by guest artist I Dewa Made Suparta\, a musician\, composer\, and teacher. Immersed in Balinese gamelan from early childhood\, he began performing at age 10. Dewa is a founding member of Çudamani\, one of Bali’s most innovative gamelan ensembles. \nwww.gitaasmara.ca\nhttps://www.youtube.com/watch?v=YFKGE85oEkU\nhttps://www.youtube.com/watch?v=NcKKTo3w_QQ
URL:https://vimhouse.ca/event/gamelan-gita-asmara-onibana-taiko/
LOCATION:The Rio\, 1660 East Broadway\, Vancouver\, British Columbia
CATEGORIES:Music at the Cinemas
ATTACH;FMTTYPE=image/jpeg:https://vimhouse.ca/wordpress/wp-content/uploads/2022/12/2022-1280X720-GGAOT.jpg
ORGANIZER;CN="VIM House":MAILTO:info(at)vimhouse.ca
END:VEVENT
END:VCALENDAR