BEGIN:VCALENDAR
VERSION:2.0
PRODID:-//VIM House - ECPv6.9.0//NONSGML v1.0//EN
CALSCALE:GREGORIAN
METHOD:PUBLISH
X-WR-CALNAME:VIM House
X-ORIGINAL-URL:https://vimhouse.ca
X-WR-CALDESC:Events for VIM House
REFRESH-INTERVAL;VALUE=DURATION:PT1H
X-Robots-Tag:noindex
X-PUBLISHED-TTL:PT1H
BEGIN:VTIMEZONE
TZID:America/Vancouver
BEGIN:DAYLIGHT
TZOFFSETFROM:-0800
TZOFFSETTO:-0700
TZNAME:PDT
DTSTART:20220313T100000
END:DAYLIGHT
BEGIN:STANDARD
TZOFFSETFROM:-0700
TZOFFSETTO:-0800
TZNAME:PST
DTSTART:20221106T090000
END:STANDARD
END:VTIMEZONE
BEGIN:VEVENT
DTSTART;VALUE=DATE:20221129
DTEND;VALUE=DATE:20221130
DTSTAMP:20260424T115412
CREATED:20221129T120842Z
LAST-MODIFIED:20221202T222657Z
UID:2141-1669680000-1669766399@vimhouse.ca
SUMMARY:Giving Tuesday
DESCRIPTION:Support a vibrant local music scene this Giving Tuesday with a donation to the Vancouver Independent Music Centre Society. \n\n\n\n\nYour donation to VIM enables us to continue programming concerts that reflect the diversity and creativity of artists in Vancouver. \nYour support also empowers us to continue research and development towards building a progressive and culturally diverse centre purpose-built to capture the joy that is music and music making. \n\n\n\n\nClick here to donate today!
URL:https://vimhouse.ca/event/giving-tuesday/
ATTACH;FMTTYPE=image/jpeg:https://vimhouse.ca/wordpress/wp-content/uploads/2022/11/2022-1280X720-GT.jpg
END:VEVENT
END:VCALENDAR