BEGIN:VCALENDAR
VERSION:2.0
PRODID:-//VIM House - ECPv6.9.0//NONSGML v1.0//EN
CALSCALE:GREGORIAN
METHOD:PUBLISH
X-WR-CALNAME:VIM House
X-ORIGINAL-URL:https://vimhouse.ca
X-WR-CALDESC:Events for VIM House
REFRESH-INTERVAL;VALUE=DURATION:PT1H
X-Robots-Tag:noindex
X-PUBLISHED-TTL:PT1H
BEGIN:VTIMEZONE
TZID:America/Vancouver
BEGIN:DAYLIGHT
TZOFFSETFROM:-0800
TZOFFSETTO:-0700
TZNAME:PDT
DTSTART:20220313T100000
END:DAYLIGHT
BEGIN:STANDARD
TZOFFSETFROM:-0700
TZOFFSETTO:-0800
TZNAME:PST
DTSTART:20221106T090000
END:STANDARD
END:VTIMEZONE
BEGIN:VEVENT
DTSTART;TZID=America/Vancouver:20220819T193000
DTEND;TZID=America/Vancouver:20220819T210000
DTSTAMP:20260424T115413
CREATED:20221203T010955Z
LAST-MODIFIED:20221202T224554Z
UID:2189-1660937400-1660942800@vimhouse.ca
SUMMARY:Kutapira
DESCRIPTION:Zimbabwean marimba with West African and Afro-Cuban percussion. \nSangito Bigelow: marimba\, percussion\, drums\, vocals\nTheo Vincent: marimba\, percussion\, drums\nJeremy Bryant: marimba\, percussion\, drums\nKai Buchan: marimba\, percussion\nJeanSe: electric bass \n\n\n\n	\n\n\n\n\n\n\n\n\n\nMelding the rhythms of Zimbabwe and West Arica with Reggae\, Samba\, Afrobeat\, Funk\, Jazz\, Cumbia\, Disco and Hip Hop\, this fusion of styles is intelligently selected\, seamlessly blended and brought to you by Kutapira. ​What started out thirteen years ago as a youth world music initiative has metamorphosized into the crowd-pleasing percussion explosion known today as Kutapira. The name Kutapira means “Sweetness” in the Shona language of Zimbabwe\, a fitting title for a band that plays a fusion of Zimbabwean marimba with West African and Afro-Cuban percussion. For years they performed exclusively as a mallet swinging\, skin-slapping quintet but now\, in their latest evolutionary form\, they feature vocals and electric bass.  \nkutapira.com \n\n\n\n\n\n\n\n\n\n\n\n\n\n	For more information and tickets: www.firehallartscentre.ca\nor call the Firehall Box Office at 604.689.0926
URL:https://vimhouse.ca/event/kutapira/
LOCATION:Firehall Arts Centre\, 280 East Cordova Street\, Vancouver\, British Columbia\, V6A 1L3\, Canada
CATEGORIES:Music in the Courtyard
ATTACH;FMTTYPE=image/jpeg:https://vimhouse.ca/wordpress/wp-content/uploads/2022/12/Courtyard-2022-1280X720-Kutapira.jpg
ORGANIZER;CN="VIM House":MAILTO:info(at)vimhouse.ca
END:VEVENT
END:VCALENDAR