BEGIN:VCALENDAR
VERSION:2.0
PRODID:-//VIM House - ECPv6.9.0//NONSGML v1.0//EN
CALSCALE:GREGORIAN
METHOD:PUBLISH
X-WR-CALNAME:VIM House
X-ORIGINAL-URL:https://vimhouse.ca
X-WR-CALDESC:Events for VIM House
REFRESH-INTERVAL;VALUE=DURATION:PT1H
X-Robots-Tag:noindex
X-PUBLISHED-TTL:PT1H
BEGIN:VTIMEZONE
TZID:America/Vancouver
BEGIN:DAYLIGHT
TZOFFSETFROM:-0800
TZOFFSETTO:-0700
TZNAME:PDT
DTSTART:20220313T100000
END:DAYLIGHT
BEGIN:STANDARD
TZOFFSETFROM:-0700
TZOFFSETTO:-0800
TZNAME:PST
DTSTART:20221106T090000
END:STANDARD
END:VTIMEZONE
BEGIN:VEVENT
DTSTART;TZID=America/Vancouver:20220901T193000
DTEND;TZID=America/Vancouver:20220901T210000
DTSTAMP:20260424T115433
CREATED:20221203T014321Z
LAST-MODIFIED:20221202T224328Z
UID:2195-1662060600-1662066000@vimhouse.ca
SUMMARY:Michael Red + Tsimka
DESCRIPTION:Deep meditative soundscapes and atmospheres inspired by dub\, nature and non-physical life. \nMichael Red: live electronics\, sound objects\nTsimka: vocals \n\n\n\n	\n\n\n\n\n\n\n\n\n\nMichael Red is a Vancouver-based music producer\, composer\, curator\, performer and DJ. He is founder and lead for Low Indigo\, ambient/experimental artist under the name Souns\, one half of LA FE\, one half of Chambers\, former collaborator and touring artist with throat singer Tanya Tagaq\, founding member of Lighta! Sound\, and collaborator with a long list of other notable artists. Michael's performed across Canada\, and internationally and has been written about in The Wire\, XLR8R\, Resident Advisor\, and Vice's Thump. Tsimka Martin\, rooted in nuučaan̓uł territories\, morphs millennia-old oral and drumming traditions into contemporary sonic vibrations. Inspired by the dualities of the ancient and the modern\, Indigenous and settler identities\, ƛaʔuukʷiʔatḥ and English languages\, Tsimka playfully reinterprets spiritual wisdom\, natural elements\, and cultural stories to remind listeners of the rhythms alive in us all - breath\, heart\, and joy. \nmichael-red.com \nsoundcloud.com/tsimka \n  \n\n\n\n\n\n\n\n\n\n\n\n\n\n	For more information and tickets: www.firehallartscentre.ca\nor call the Firehall Box Office at 604.689.0926
URL:https://vimhouse.ca/event/michael-red-tsimka/
LOCATION:Firehall Arts Centre\, 280 East Cordova Street\, Vancouver\, British Columbia\, V6A 1L3\, Canada
CATEGORIES:Music in the Courtyard
ATTACH;FMTTYPE=image/jpeg:https://vimhouse.ca/wordpress/wp-content/uploads/2022/12/Courtyard-2022-1280X720-Michael-Red-Tsimka.jpg
ORGANIZER;CN="VIM House":MAILTO:info(at)vimhouse.ca
END:VEVENT
END:VCALENDAR