BEGIN:VCALENDAR
VERSION:2.0
PRODID:-//VIM House - ECPv6.9.0//NONSGML v1.0//EN
CALSCALE:GREGORIAN
METHOD:PUBLISH
X-WR-CALNAME:VIM House
X-ORIGINAL-URL:https://vimhouse.ca
X-WR-CALDESC:Events for VIM House
REFRESH-INTERVAL;VALUE=DURATION:PT1H
X-Robots-Tag:noindex
X-PUBLISHED-TTL:PT1H
BEGIN:VTIMEZONE
TZID:America/Vancouver
BEGIN:DAYLIGHT
TZOFFSETFROM:-0800
TZOFFSETTO:-0700
TZNAME:PDT
DTSTART:20220313T100000
END:DAYLIGHT
BEGIN:STANDARD
TZOFFSETFROM:-0700
TZOFFSETTO:-0800
TZNAME:PST
DTSTART:20221106T090000
END:STANDARD
END:VTIMEZONE
BEGIN:VEVENT
DTSTART;TZID=America/Vancouver:20220806T193000
DTEND;TZID=America/Vancouver:20220806T210000
DTSTAMP:20260424T131110
CREATED:20221203T005054Z
LAST-MODIFIED:20221202T230307Z
UID:2181-1659814200-1659819600@vimhouse.ca
SUMMARY:Murray Porter Band
DESCRIPTION:Lead by the legendary Mohawk blues man Murray Porter\, this band of seasoned musicians gains new audiences every time they perform their soulful blues. \nMurray Porter: lead vocals\, keyboard\nHelene Duguay: harmonies\, bass\nRick Boulter: guitar\nDarren Harry: drums \n\n\n\n	\n\n\n\n\n\n\n\n\n\nJUNO Award-winning Murray Porter may have a blues soul to the core\, but he also grew up on rock and roll\, R & B and country music and his recent album Stand Up! reflects these early musical influences. This year\, he was nominated for the `Blues With A Feeling’ award for Lifetime Achievement from the Maple Blues Awards\, Canada’s national blues awards. Porter’s love of performing comes across clear and strong. He has been compared to Dr. John\, Joe Cocker and even Elton John! He captivates audiences wherever he performs and makes new fans that never leave his show disappointed. He’s a proud Mohawk man from Six Nations of the Grand River Territory in southern Ontario\, who now lives on Squamish Nation unceded territory in North Vancouver\, BC. \n“A master bluesman” (Robbie Robertson). \nmurrayporter.ca \n\n\n\n\n\n\n\n\n\n\n  \n\n\n\n	For more information and tickets: www.firehallartscentre.ca\nor call the Firehall Box Office at 604.689.0926
URL:https://vimhouse.ca/event/murray-porter-band/
LOCATION:Firehall Arts Centre\, 280 East Cordova Street\, Vancouver\, British Columbia\, V6A 1L3\, Canada
CATEGORIES:Music in the Courtyard
ATTACH;FMTTYPE=image/jpeg:https://vimhouse.ca/wordpress/wp-content/uploads/2022/12/Courtyard-2022-1280X720-porter.jpg
ORGANIZER;CN="VIM House":MAILTO:info(at)vimhouse.ca
END:VEVENT
END:VCALENDAR