BEGIN:VCALENDAR
VERSION:2.0
PRODID:-//VIM House - ECPv6.9.0//NONSGML v1.0//EN
CALSCALE:GREGORIAN
METHOD:PUBLISH
X-WR-CALNAME:VIM House
X-ORIGINAL-URL:https://vimhouse.ca
X-WR-CALDESC:Events for VIM House
REFRESH-INTERVAL;VALUE=DURATION:PT1H
X-Robots-Tag:noindex
X-PUBLISHED-TTL:PT1H
BEGIN:VTIMEZONE
TZID:America/Vancouver
BEGIN:DAYLIGHT
TZOFFSETFROM:-0800
TZOFFSETTO:-0700
TZNAME:PDT
DTSTART:20250309T100000
END:DAYLIGHT
BEGIN:STANDARD
TZOFFSETFROM:-0700
TZOFFSETTO:-0800
TZNAME:PST
DTSTART:20251102T090000
END:STANDARD
END:VTIMEZONE
BEGIN:VEVENT
DTSTART;TZID=America/Vancouver:20250530T200000
DTEND;TZID=America/Vancouver:20250530T220000
DTSTAMP:20260424T092437
CREATED:20250415T210959Z
LAST-MODIFIED:20250605T190746Z
UID:4732-1748635200-1748642400@vimhouse.ca
SUMMARY:Music At The Cinemas - Sara Gold & x/o
DESCRIPTION:Vancouver Independent Music Centre Society (VIM) Presents: \nMUSIC AT THE CINEMAS: Sara Gold & x/o \nTwo visionary artists disrupting gender binaries\, building new sonic landscapes\, and expanding their craft through transcendent explorations of sound and sight. Fans of electronic sound art – this is an event you don’t want to miss!\n\n*Please note lights and audio visual projections will be used at this show. If you are concerned about any pre-existing conditions that may be affected\, please reach out to cindy@vimhouse.ca to clarify. \nThis event is hosted on the unceded and traditional lands of the Coast Salish peoples – sḵwx̱wú7mesh (Squamish)\, selíʔlwitulh (Tsleil-Waututh)\, and xʷməθkʷəy̓əm (Musqueam) Nations. \nFriday\, May 30th\, 2025\nShow: 8:00 pm\nDoors: 7:30 pm\nVenue: Fox Cabaret – 2321 Main St\, Vancouver \nTickets: General Admission (Sliding Scale) – $20 to $30 \nPWYC (Pay what you can) tickets may be available at the door if the show has not sold out. Please reach out to info@vimhouse.ca if you would like to attend but are facing financial barriers.  \n\nAbout Sara Gold \nSara Gold is a multidisciplinary artist exploring the boundaries of sound through experimental music and sound art. Utilizing repetition\, drones\, and low frequencies generated with vintage analog electronics and processed in Ableton Live\, Gold seeks to evoke new sensations and altered brain states. Through a disabled/queer/non-binary lens\, their practice encompasses immersive live performances\, conceptual audio-visual experiences\, and community gatherings\, fostering a rich dialogue around sound and perception.\n \n\n \nAbout x/o\nx/o is Veron Xio (they/them); a Vietnamese-Canadian electronic music producer and multidisciplinary artist based in Vancouver. Interested in disrupting gender binaries and transgressing codes of identity\, x/o uses hyper-masculine and hyper-feminine sonic tropes to build new worlds; an audiovisual exploration of duality and cyclical emotions. \nThey have presented work internationally\, including Phoenix Central Park (Sydney)\, Palais de Tokyo (Paris)\, Institute of Contemporary Arts (London)\, La Casa Encendida (Madrid)\, and House of Electronic Arts (Basel). In 2019\, they were selected for the MUTEK Amplify residency at Somerset House Studios UK and Red Bull Bass Camp Calgary at the National Music Centre. \n___________________________________ \nVenue Accessibility:  \nGeneral admission tickets are standing room only with limited\, first-come-first serve bar seating along the back of the room. If you require seating in advance\, please email cindy[at]vimhouse.ca so we can accommodate your request. The main cabaret room is accessible through a ramped entrance. A wheelchair accessible washroom is available\, ask a staff member for assistance. \nAbout Vancouver Independent Music Centre Society (VIM): \nVIM is a non-profit\, charitable organization established in 2011 with a mandate to develop a well-designed\, central\, accessible\, sustainable and culturally diverse music centre based on feedback from hundreds of musicians\, music presenters\, concertgoers and managers among others. In 2018\, the City of Vancouver passed zoning at the Plaza of Nations to include a 20\,000 square foot music centre based on the VIM’s vision and plans. https://vimhouse.ca  \nThis event is produced by the VIM with support from BC Arts Council\, Canadian Heritage\, Canada Council for the Arts\, Government of BC\, City of Vancouver\, and JTC Heersink Foundation.  \nFor more information or interviews\, please contact Cindy Dai at communications@vimhouse.ca.
URL:https://vimhouse.ca/event/music-at-the-cinemas-sara-gold-x-o/
LOCATION:Fox Cabaret\, 2321 Main St\, Vancouver\, British Columbia\, V5T 3C9\, Canada
CATEGORIES:Music at the Cinemas
ATTACH;FMTTYPE=image/jpeg:https://vimhouse.ca/wordpress/wp-content/uploads/2025/04/BANNER-Sara-Gold-xo-1200x600-1.jpg
ORGANIZER;CN="VIM House":MAILTO:info(at)vimhouse.ca
END:VEVENT
END:VCALENDAR