BEGIN:VCALENDAR
VERSION:2.0
PRODID:-//VIM House - ECPv6.9.0//NONSGML v1.0//EN
CALSCALE:GREGORIAN
METHOD:PUBLISH
X-WR-CALNAME:VIM House
X-ORIGINAL-URL:https://vimhouse.ca
X-WR-CALDESC:Events for VIM House
REFRESH-INTERVAL;VALUE=DURATION:PT1H
X-Robots-Tag:noindex
X-PUBLISHED-TTL:PT1H
BEGIN:VTIMEZONE
TZID:America/Vancouver
BEGIN:DAYLIGHT
TZOFFSETFROM:-0800
TZOFFSETTO:-0700
TZNAME:PDT
DTSTART:20220313T100000
END:DAYLIGHT
BEGIN:STANDARD
TZOFFSETFROM:-0700
TZOFFSETTO:-0800
TZNAME:PST
DTSTART:20221106T090000
END:STANDARD
END:VTIMEZONE
BEGIN:VEVENT
DTSTART;TZID=America/Vancouver:20220731T193000
DTEND;TZID=America/Vancouver:20220731T213000
DTSTAMP:20260424T131307
CREATED:20221203T004201Z
LAST-MODIFIED:20221202T230542Z
UID:2176-1659295800-1659303000@vimhouse.ca
SUMMARY:Niho\, Fito\, Y Marlin
DESCRIPTION:High-energy Latin music and culture. \nNiho Takase: piano\nFito Garcia: bass\nMarlin Ramazzini: vocals\, percussion \n\n\n\n	JUNO nominated pianist Niho Takase instantly fell in love with Cuban music when pianist Kathy Kidd introduced her to Latin music in college. Niho played in the Latin Jazz Ensemble led by renowned percussionist Sal Ferreras\, later led by composer/trumpeter John Korsrud. Those experiences help her achieve her goal of studying music in Cuba and Spain. Marlin Ramazzini\, JUNO Award nominee and recipient of the Vancouver Inspirational Latin Awards and Guatemalan Cultural Association Award\, is one of the most versatile and accomplished Latin singers on the West Coast with a warm and sensuous voice that can tease out the essence of any song. She studied with Omara Portuondo\, one of the greatest Cuban singers. Fito Garcia received a JUNO Award for his participation in El Camino Real by Ancient Cultures.  He has been nominated twice for West Coast Music Awards for Best World Music Album. Fito produced a new album Life is For Doing Things by The Tommy Kae Band and Marlin Ramazzini’s second album Amandote. \nnihotakase.com \n\n\n\n	For more information and tickets: www.firehallartscentre.ca\nor call the Firehall Box Office at 604.689.0926
URL:https://vimhouse.ca/event/niho-fito-y-marlin/
LOCATION:Firehall Arts Centre\, 280 East Cordova Street\, Vancouver\, British Columbia\, V6A 1L3\, Canada
CATEGORIES:Music in the Courtyard
ATTACH;FMTTYPE=image/jpeg:https://vimhouse.ca/wordpress/wp-content/uploads/2022/12/Courtyard-2022-1280X720-NFM.jpg
ORGANIZER;CN="VIM House":MAILTO:info(at)vimhouse.ca
END:VEVENT
END:VCALENDAR