BEGIN:VCALENDAR
VERSION:2.0
PRODID:-//VIM House - ECPv6.9.0//NONSGML v1.0//EN
CALSCALE:GREGORIAN
METHOD:PUBLISH
X-WR-CALNAME:VIM House
X-ORIGINAL-URL:https://vimhouse.ca
X-WR-CALDESC:Events for VIM House
REFRESH-INTERVAL;VALUE=DURATION:PT1H
X-Robots-Tag:noindex
X-PUBLISHED-TTL:PT1H
BEGIN:VTIMEZONE
TZID:America/Vancouver
BEGIN:DAYLIGHT
TZOFFSETFROM:-0800
TZOFFSETTO:-0700
TZNAME:PDT
DTSTART:20260308T100000
END:DAYLIGHT
BEGIN:STANDARD
TZOFFSETFROM:-0700
TZOFFSETTO:-0800
TZNAME:PST
DTSTART:20261101T090000
END:STANDARD
END:VTIMEZONE
BEGIN:VEVENT
DTSTART;TZID=America/Vancouver:20260207T193000
DTEND;TZID=America/Vancouver:20260207T210000
DTSTAMP:20260424T092443
CREATED:20260114T025136Z
LAST-MODIFIED:20260124T020621Z
UID:10536-1770492600-1770498000@vimhouse.ca
SUMMARY:Russell Wallace's Saltchuck City Orchestra - Klatwa Album Release
DESCRIPTION:Russell Wallace and the Vancouver Independent Music Centre Society (VIM) present:\n\nSaltchuck City Orchestra – Klatwa Album Release – Saturday\, February 7th\, 2026\nVancouver Community College – Broadway Auditorium\n1155 E Broadway\, Vancouver\nDoors: 6:30 PM\nShow: 7:30 PM – the orchestra will perform one set\, reception to follow \nTickets: https://show.ps/l/ff8e9003/\nAll proceeds from ticket sales will be donated to the Ray and Flora Wallace Bursary at Vancouver Community College (read more below).\n\nTickets are sliding scale general admission and include (1) copy of the album per ticket. Please arrive early to secure your seats. Please reach out to cindy@vimhouse.ca if you require further assistance with tickets. \nClick here to watch the trailer for ‘klatwa’ \nPreview and pre-order the album on Bandcamp: https://redshiftmusicsociety.bandcamp.com/album/klatwa \nLil’wat composer and performer\, Russell Wallace\, celebrates the release of his album Klatwa (Redshift)\, featuring compositions rooted in his Salish heritage in a concert featuring his ensemble\, the Saltchuck City Orchestra: \nEmily M Cheung\, soprano\nSarah Jo Kirsch\, mezzo-soprano\nSam Dabrusin\, tenor\nRussell Wallace\, bass \nLan Tung\, erhu\nCameron Wilson\, violin\nMarina Hasselberg\, cello\nJohn Korsrud\, trumpet\nBill Runge\, alto saxophone\nGeoff Claridge\, tenor saxophone\nAdnrew Skepasts\, guitar\nWynston Minckler\, bass\nNoah Franche-Nolan\, piano\, keyboard\nKai Basanta\, drums\nRaphael Geronimo\, percussion \nAbout Klatwa – Embark: \n“I trace my finger over the album cover—curved lines and angles forming the word ‘Klatwa – to embark\,’ the same marks my great-grandfather’s pen once made when writing to villages across the mountains. The songs within pulse with movement: salmon fighting upstream\, crows banking against dusky skies\, ancestors descending from stars\, and communities coming together. This Chinook shorthand also flowed between Stʼatʼimc hands in the 1800s\, a code of connection that barely survived. \nI still hear my mother’s voice in the melody of “Gathering”—how she would hum it first\, barely audible\, in the residential school’s shadowed corners. Girls would gather around bodies huddled close\, as she taught them to shape their mouths around Stʼatʼimc syllables the teachers had forbidden. They memorized each word\, each inflection\, passing it between them like a secret flame that mustn’t die. Years later\, when I record this song\, I feel her breath in mine—the same defiant air that kept our language burning when they tried to extinguish it. Vancouver rose from this coastal soil nourished by the intertwined roots of many peoples. Saltchuck City Orchestra honours this convergence—each note a declaration of defiance\, each harmony an offering to those who found strength in unity\, and each rhythm pulsing forward\, inviting us all to dance.” \n– Russell Wallace \nKlatwa was co-produced by Russell Wallace and John Korsrud with the generous support of the First Peoples’ Cultural Council and the British Columbia Arts Council. \nSaltchuck City Orchestra’s Klatwa Album Release Concert takes place on the traditional and unceded territory of the xwməθkwəy̓əm (Musqueam)\, Sḵwx̱wú7mesh Úxwumixw (Squamish)\, and səl̓ilw̓ətaʔɬ (Tsleil-Waututh). \nWe gratefully acknowledge the support of Vancouver Community College\, Canadian Heritage\, JTC Heersink Foundation\, and the City of Vancouver. \nAbout Russell Wallace:\n \nRussell Wallace is an award winning composer\, producer and traditional singer from the St’at’imc/Lil’wat Nation (Salish) in Canada. His music has been part of a number of film and television soundtracks and theatre/dance productions and as a musician has been part a number of award winning groups and recordings. Currently\, Wallace is the Director of the Indigenous Vocal Ensemble at Vancouver Community College and works with a number of local choirs in Vancouver. \nAbout the Ray and Flora Wallace Bursary: \nThe Ray and Flora Wallace Bursary at Vancouver Community College (VCC)\, established by musician and composer Russell Wallace\, commemorates the legacy of his late parents through the provision of financial assistance to Indigenous students pursuing musical studies at VCC.  \nThe Bursary was established by Wallace to commemorate the legacy of his late parents through the provision of financial assistance to Indigenous students pursuing musical studies at VCC. \nRay and Flora Wallace transformed their modest East Vancouver house into a sanctuary of support for education\, music\, and community. Throughout the 1980s\, they quietly covered textbook costs\, tuition fees\, and bus tickets for Urban Indigenous students struggling to make ends meet. Their kitchen table\, scratched from years of use\, became a gathering place where hungry students found homemade bannock and strong tea\, sympathetic ears and generous hearts. \nAbout Vancouver Independent Music Centre Society (VIM) \nVIM is a non-profit\, charitable organization established in 2011 with a mandate to develop a well-designed\, central\, accessible\, sustainable and culturally diverse music centre based on feedback from hundreds of musicians\, music presenters\, concertgoers and managers among others. In 2018\, the City of Vancouver passed zoning at the Plaza of Nations to include a 20\,000 square foot music centre based on the VIM’s vision and plans. https://vimhouse.ca \nFor more information or interviews\, please contact Cindy Dai at communications@vimhouse.ca.
URL:https://vimhouse.ca/event/russell-wallaces-saltchuck-city-orchestra-klatwa-album-release/
LOCATION:VCC Broadway Auditorium\, 1155 E Broadway\, Vancouver\, BC\, V5T 4V5\, Canada
ATTACH;FMTTYPE=image/jpeg:https://vimhouse.ca/wordpress/wp-content/uploads/2026/01/Klatwa-Concert-Teaser.jpg
ORGANIZER;CN="VIM House":MAILTO:info(at)vimhouse.ca
END:VEVENT
END:VCALENDAR