BEGIN:VCALENDAR
VERSION:2.0
PRODID:-//VIM House - ECPv6.9.0//NONSGML v1.0//EN
CALSCALE:GREGORIAN
METHOD:PUBLISH
X-WR-CALNAME:VIM House
X-ORIGINAL-URL:https://vimhouse.ca
X-WR-CALDESC:Events for VIM House
REFRESH-INTERVAL;VALUE=DURATION:PT1H
X-Robots-Tag:noindex
X-PUBLISHED-TTL:PT1H
BEGIN:VTIMEZONE
TZID:America/Vancouver
BEGIN:DAYLIGHT
TZOFFSETFROM:-0800
TZOFFSETTO:-0700
TZNAME:PDT
DTSTART:20220313T100000
END:DAYLIGHT
BEGIN:STANDARD
TZOFFSETFROM:-0700
TZOFFSETTO:-0800
TZNAME:PST
DTSTART:20221106T090000
END:STANDARD
END:VTIMEZONE
BEGIN:VEVENT
DTSTART;TZID=America/Vancouver:20220902T193000
DTEND;TZID=America/Vancouver:20220902T210000
DTSTAMP:20260424T115412
CREATED:20221203T022954Z
LAST-MODIFIED:20221202T224255Z
UID:2222-1662147000-1662152400@vimhouse.ca
SUMMARY:Saxophilia
DESCRIPTION:Home-Grown Saxophones: Canadian music for classical saxophone quartet\, with works by Fred Stride\, David Branter\, Violet Archer\, and Beatrice Ferreira. \nJulia Nolan: soprano saxophone\nKris Covlin: alto saxophone\nDavid Branter: tenor saxophone\nColin MacDonald: baritone saxophone \n\n\n\n	\n\n\n\n\n\n\n\n\n\nFormed in 1996\, the Vancouver-based saxophone quartet Saxophilia has been committed to giving the highest quality performances of classical saxophone repertoire. All of the quartet members are active performers in Vancouver’s music community\, as soloists and as band members in a wide variety of styles from classical to jazz to popular music. This appreciation of a diversity of music informs the group’s choice of repertoire\, which ranges from the standard repertoire of classical saxophone quartet\, to contemporary music\, to jazz arrangements and lighter fare. In 2018\, the ensemble released their self-titled recording Saxophilia\, featuring the music of BC composers Dorothy Chang\, Peter Hannan\, and Colin MacDonald. \nsaxophilia.com \n\n\n\n\n\n\n\n\n\n\n\n\n\n	For more information and tickets: www.firehallartscentre.ca\nor call the Firehall Box Office at 604.689.0926
URL:https://vimhouse.ca/event/saxophilia/
LOCATION:Firehall Arts Centre\, 280 East Cordova Street\, Vancouver\, British Columbia\, V6A 1L3\, Canada
CATEGORIES:Music in the Courtyard
ATTACH;FMTTYPE=image/jpeg:https://vimhouse.ca/wordpress/wp-content/uploads/2022/12/Courtyard-2022-1280X720-Sax.jpg
ORGANIZER;CN="VIM House":MAILTO:info(at)vimhouse.ca
END:VEVENT
END:VCALENDAR