BEGIN:VCALENDAR
VERSION:2.0
PRODID:-//VIM House - ECPv6.9.0//NONSGML v1.0//EN
CALSCALE:GREGORIAN
METHOD:PUBLISH
X-WR-CALNAME:VIM House
X-ORIGINAL-URL:https://vimhouse.ca
X-WR-CALDESC:Events for VIM House
REFRESH-INTERVAL;VALUE=DURATION:PT1H
X-Robots-Tag:noindex
X-PUBLISHED-TTL:PT1H
BEGIN:VTIMEZONE
TZID:America/Vancouver
BEGIN:DAYLIGHT
TZOFFSETFROM:-0800
TZOFFSETTO:-0700
TZNAME:PDT
DTSTART:20220313T100000
END:DAYLIGHT
BEGIN:STANDARD
TZOFFSETFROM:-0700
TZOFFSETTO:-0800
TZNAME:PST
DTSTART:20221106T090000
END:STANDARD
END:VTIMEZONE
BEGIN:VEVENT
DTSTART;TZID=America/Vancouver:20220814T193000
DTEND;TZID=America/Vancouver:20220814T210000
DTSTAMP:20260424T131949
CREATED:20221203T010725Z
LAST-MODIFIED:20221202T230039Z
UID:2187-1660505400-1660510800@vimhouse.ca
SUMMARY:Serenata Mexicana
DESCRIPTION:Featuring the duo of Mexican soprano Lili Nogueras and Cuban guitarist Josué Tacoronte with trombonist Jeremy Berkman. \nLili Nogueras: vocals\nJosué Tacoronte: guitar\nJeremy Berkman: trombone \n\n\n\n	\n\n\n\n\n\n\n\n\n\nTwo years ago\, Lili Nogueras and Josué Tacoronte began their duo with the project Opera Flamenca and now they perform a program of traditional Mexican songs\, with classical/popular voice and flamenco guitar. For this special performance they are joined by guest trombonist Jeremy Berkman who brings a unique and original musical contrast. As a trio they were featured in “Elementos” for Turning Point Ensemble's 1+1+1 film project and were recently invited to contribute to the Victoria Flamenco Festival. Pianist and soprano Lili Nogueras began studying music at the age of 6 and has studied and performed around the world. Acclaimed by critics\, guitarist Josué Tacoronte has released three albums and in 2013 he was awarded Best Concert Interpreter at the International Festival CUBADISCO Awards. Trombonist Jeremy Berkman currently performs with the Vancouver Opera Orchestra\, Cappella Borealis\, and the Vancouver Brass Orchestra and has contributed to over 30 commercial recordings. \n\n\n\n\n\n\n\n\n\n\n\n\n\n	For more information and tickets: www.firehallartscentre.ca\nor call the Firehall Box Office at 604.689.0926
URL:https://vimhouse.ca/event/sunday-august-14-3-pm-serenata-mexicana/
LOCATION:Firehall Arts Centre\, 280 East Cordova Street\, Vancouver\, British Columbia\, V6A 1L3\, Canada
ATTACH;FMTTYPE=image/jpeg:https://vimhouse.ca/wordpress/wp-content/uploads/2022/12/Courtyard-2022-1280X720-SM.jpg
ORGANIZER;CN="VIM House":MAILTO:info(at)vimhouse.ca
END:VEVENT
END:VCALENDAR