BEGIN:VCALENDAR
VERSION:2.0
PRODID:-//VIM House - ECPv6.9.0//NONSGML v1.0//EN
CALSCALE:GREGORIAN
METHOD:PUBLISH
X-WR-CALNAME:VIM House
X-ORIGINAL-URL:https://vimhouse.ca
X-WR-CALDESC:Events for VIM House
REFRESH-INTERVAL;VALUE=DURATION:PT1H
X-Robots-Tag:noindex
X-PUBLISHED-TTL:PT1H
BEGIN:VTIMEZONE
TZID:America/Vancouver
BEGIN:DAYLIGHT
TZOFFSETFROM:-0800
TZOFFSETTO:-0700
TZNAME:PDT
DTSTART:20220313T100000
END:DAYLIGHT
BEGIN:STANDARD
TZOFFSETFROM:-0700
TZOFFSETTO:-0800
TZNAME:PST
DTSTART:20221106T090000
END:STANDARD
END:VTIMEZONE
BEGIN:VEVENT
DTSTART;TZID=America/Vancouver:20220820T193000
DTEND;TZID=America/Vancouver:20220820T210000
DTSTAMP:20260424T115506
CREATED:20221203T021535Z
LAST-MODIFIED:20221202T224501Z
UID:2217-1661023800-1661029200@vimhouse.ca
SUMMARY:The Fugitives
DESCRIPTION:Modern folk music with big streaks of storytelling. \nBrendan McLeod: guitar\, vocals\nAdrian Glynn: bass\, balalaika\, lead vocals\nChris Suen: banjo\, vocals\nCarly Frey: violin\, vocals \n\n\n\n	\n\n\n\n\n\n\n\n\n\nA folk collective headed by songwriters Adrian Glynn and Brendan McLeod\, the band has toured extensively through Canada\, Western Europe\, and the UK. Over the past twelve years\, they’ve earned a reputation for unforgettable live shows\, brimming with complex harmonies\, infectious storytelling and top-notch musicianship. Trench Songs\, The Fugitives' fifth record\, was nominated for two Canadian Folk Music Awards and a JUNO Award for Traditional Roots Album of the Year. Their previous album\, The Promise of Strangers\, won Best Folk Album of 2019 from the German Music Critics' Association and before that\, 2013's Everything Will Happenspent ten weeks on the top ten Canadian folk charts and earned them a support slot across Western Canada with Buffy Sainte-Marie and an appearance at UK’s Glastonbury Festival. \n\n\n\n\n\n “This show is simply brilliant” (CBC) \nfugitives.ca \n\n\n\n\n\n\n\n\n\n \n\n\n\n\n\n\n\n\n\n\n\n\n\n\n\n\n\n	For more information and tickets: www.firehallartscentre.ca\nor call the Firehall Box Office at 604.689.0926
URL:https://vimhouse.ca/event/the-fugitives/
LOCATION:Firehall Arts Centre\, 280 East Cordova Street\, Vancouver\, British Columbia\, V6A 1L3\, Canada
CATEGORIES:Music in the Courtyard
ATTACH;FMTTYPE=image/jpeg:https://vimhouse.ca/wordpress/wp-content/uploads/2022/12/Courtyard-2022-1280X720-Fujitives.jpg
ORGANIZER;CN="VIM House":MAILTO:info(at)vimhouse.ca
END:VEVENT
END:VCALENDAR