BEGIN:VCALENDAR
VERSION:2.0
PRODID:-//VIM House - ECPv6.9.0//NONSGML v1.0//EN
CALSCALE:GREGORIAN
METHOD:PUBLISH
X-WR-CALNAME:VIM House
X-ORIGINAL-URL:https://vimhouse.ca
X-WR-CALDESC:Events for VIM House
REFRESH-INTERVAL;VALUE=DURATION:PT1H
X-Robots-Tag:noindex
X-PUBLISHED-TTL:PT1H
BEGIN:VTIMEZONE
TZID:America/Vancouver
BEGIN:DAYLIGHT
TZOFFSETFROM:-0800
TZOFFSETTO:-0700
TZNAME:PDT
DTSTART:20250309T100000
END:DAYLIGHT
BEGIN:STANDARD
TZOFFSETFROM:-0700
TZOFFSETTO:-0800
TZNAME:PST
DTSTART:20251102T090000
END:STANDARD
END:VTIMEZONE
BEGIN:VEVENT
DTSTART;TZID=America/Vancouver:20251120T080000
DTEND;TZID=America/Vancouver:20251120T170000
DTSTAMP:20260424T092019
CREATED:20251121T014352Z
LAST-MODIFIED:20251121T014352Z
UID:8613-1763625600-1763658000@vimhouse.ca
SUMMARY:VIM Virtual Auction 2025
DESCRIPTION:Last year\, ahead of Giving Tuesday – the global day of giving\, VIM launched our first ever virtual silent auction. Thanks to our community\, we raised $2\,000 to support year-round programming and planning for the music centre. \nThis year our goal is $3\,000 – we need your help to get there. \nFrom  November 26th until December 2nd\, you can bid on a curated list of auction items in support of Vancouver Independent Music Centre Society. Items include gift cards to local businesses\, collectable vinyl records\, tickets to exciting arts and culture events\, and more! All generously donated by our friends and partners in the community. \nThis is a 100% virtual auction – bidding is as easy as online shopping! Bidding opens at 10 AM PST on Wednesday\, November 26th and closes at 7 PM PST on Tuesday\, December 2nd. \nBrowse through a list of items generously donated by celebrated local businesses\, arts and culture organizations\, and more. From collectable vinyl to concert tickets; books by local authors to getaways\, there’s something here for everyone. Looking for a holiday gift? Treat your loved one (or yourself) to a unique gift while amplifying VIM’s mission. \nFunds raised will support year-round live music programs and continued plans for a one-of-its-kind music centre in Vancouver. \nA virtual auction means you can browse and bid from your mobile device\, tablet\, or computer. It’s as easy as online shopping! \nHave an item you’d like to donate? Please reach out to cindy[at]vimhouse.ca to coordinate the details. \nClick Here To Bid!
URL:https://vimhouse.ca/event/vim-virtual-auction-2025/
ATTACH;FMTTYPE=image/jpeg:https://vimhouse.ca/wordpress/wp-content/uploads/2025/11/VIM-Virtual-Auction-Web-Slider.jpg
ORGANIZER;CN="VIM House":MAILTO:info(at)vimhouse.ca
END:VEVENT
END:VCALENDAR