BEGIN:VCALENDAR
VERSION:2.0
PRODID:-//VIM House - ECPv6.9.0//NONSGML v1.0//EN
CALSCALE:GREGORIAN
METHOD:PUBLISH
X-WR-CALNAME:VIM House
X-ORIGINAL-URL:https://vimhouse.ca
X-WR-CALDESC:Events for VIM House
REFRESH-INTERVAL;VALUE=DURATION:PT1H
X-Robots-Tag:noindex
X-PUBLISHED-TTL:PT1H
BEGIN:VTIMEZONE
TZID:America/Vancouver
BEGIN:DAYLIGHT
TZOFFSETFROM:-0800
TZOFFSETTO:-0700
TZNAME:PDT
DTSTART:20220313T100000
END:DAYLIGHT
BEGIN:STANDARD
TZOFFSETFROM:-0700
TZOFFSETTO:-0800
TZNAME:PST
DTSTART:20221106T090000
END:STANDARD
END:VTIMEZONE
BEGIN:VEVENT
DTSTART;TZID=America/Vancouver:20220904T150000
DTEND;TZID=America/Vancouver:20220904T163000
DTSTAMP:20260424T115345
CREATED:20221203T023455Z
LAST-MODIFIED:20221202T224055Z
UID:2226-1662303600-1662309000@vimhouse.ca
SUMMARY:Whelming
DESCRIPTION:Bohemian rock music for the overworked and under-stimulated. \nErik Severinson: guitar\, vocals\nEric Wettstein: guitar\nMarkus Abramzik: bass\nMark Kerrey: drums\, electronics \n\n\n\n	\n\n\n\n\n\n\n\n\n\nWhelming is a Vancouver music outfit developed for the purpose of exploring the creative capabilities of its members. With 20th century rock music as a jumping off point\, the band lets their aesthetic wander with the current of each piece; landing elsewhere\, feeling at home. \nwhelming.bandcamp.com/album/plant-your-lightning \n\n\n\n\n\n\n\n\n\n\n\n\n\n	For more information and tickets: www.firehallartscentre.ca\nor call the Firehall Box Office at 604.689.0926
URL:https://vimhouse.ca/event/whelming/
LOCATION:Firehall Arts Centre\, 280 East Cordova Street\, Vancouver\, British Columbia\, V6A 1L3\, Canada
CATEGORIES:Music in the Courtyard
ATTACH;FMTTYPE=image/jpeg:https://vimhouse.ca/wordpress/wp-content/uploads/2022/12/Courtyard-2022-1280X720-Whelming.jpg
ORGANIZER;CN="VIM House":MAILTO:info(at)vimhouse.ca
END:VEVENT
END:VCALENDAR