BEGIN:VCALENDAR
VERSION:2.0
PRODID:-//VIM House - ECPv6.9.0//NONSGML v1.0//EN
CALSCALE:GREGORIAN
METHOD:PUBLISH
X-WR-CALNAME:VIM House
X-ORIGINAL-URL:https://vimhouse.ca
X-WR-CALDESC:Events for VIM House
REFRESH-INTERVAL;VALUE=DURATION:PT1H
X-Robots-Tag:noindex
X-PUBLISHED-TTL:PT1H
BEGIN:VTIMEZONE
TZID:America/Vancouver
BEGIN:DAYLIGHT
TZOFFSETFROM:-0800
TZOFFSETTO:-0700
TZNAME:PDT
DTSTART:20230312T100000
END:DAYLIGHT
BEGIN:STANDARD
TZOFFSETFROM:-0700
TZOFFSETTO:-0800
TZNAME:PST
DTSTART:20231105T090000
END:STANDARD
END:VTIMEZONE
BEGIN:VEVENT
DTSTART;TZID=America/Vancouver:20231128T080000
DTEND;TZID=America/Vancouver:20231128T080000
DTSTAMP:20260425T211522
CREATED:20230824T224743Z
LAST-MODIFIED:20240208T201535Z
UID:10000024-1701158400-1701158400@vimhouse.ca
SUMMARY:Under The Atrium: Rahael & SUGARFUNGUS
DESCRIPTION:UNDER THE ATRIUM: RAHAEL & SUGARFUNGUS\nFRIDAY\, SEPTEMBER 15th\, 2023\n\nKW PRODUCTION STUDIO\nWoodwards Building – #10 – 111 Hastings St W\, Vancouver\, BC V6B 1H4 \nDoors: 7:30 PM \nShow: 8:00 PM \nALL AGES / DRY EVENT \nSliding Scale Ticket Pricing + PWYC At The Door \nTICKETS:\nhttps://vim-undertheatrium-sept15.eventbrite.ca \nRahael\n\nRahael creates an immersive and cinematic world that celebrates the intimacy of love. A self-taught guitarist born in Vancouver\, BC with Ethiopian and Eritrean heritage\, her songwriting is inspired by her personal experiences and guided by the ethereal moments love and relationships have to offer. After a summer in Nashville\, Rahael wants to bring the music she creates propelled by the traditions of country\, Americana\, and folk music to wider audiences. \n \nSUGARFUNGUS\nVancouver\, Canada based\, Sugarfungus’ music can best be described as HighClouds blog puts it: “Dancy dream pop for the haunted and heartbroken.” The band released their first EP entitled “Letting Go\, Moving Still” on January 26\, 2022. The EP presents a set of warm and fuzzy tracks that blend bright guitar lines and atmospheric synths\, all the while punctuated by pop-driven hooks that capture the feeling of drifting in and out of a state of sweet\, mushroomy bliss. For a band inspired by science\, nature\, and art\, the idea of stitching pieces of different organisms together to evolve into something infinitely funkier\, more brilliantly alive is an apt metaphor. The band is now focused on self producing their first full length album. SUGARFUNGUS is Tess Meckling\, Alex Marr\, Jackson Moore\, and Bradan DeCicco. \n \nAbout The Series – UNDER THE ATRIUM \nDiscover your new favourite troubadour. \n3 evenings. 6 artists. This fall\, join us at KW Studios for a new series that features original vocal music from young musicians. \nSinger-songwriters are the musical historians of our lives – weaving lyrics and melody into sonic tales about love\, loss\, hope\, home\, friendship\, identity\, and everything in between. This series aims to spotlight the fresh new voices that are doing just that. \nEach artist brings their unique voices and lived experiences to tell their story through song. From indie pop to modern jazz\, alternative r&b to folk\, listen and lean in to a new yet familiar sound #undertheatrium. \nSeptember 15th. October 20th. November 3rd. \nShare this:FacebookTwitterPocket
URL:https://vimhouse.ca/event/under-the-atrium-rahael-sugarfungus/
LOCATION:KW Studios\, #10 – 111 Hastings St W\, Vancouver\, British Columbia\, V6B 1H4\, Canada
CATEGORIES:Under The Atrium
ATTACH;FMTTYPE=image/png:https://vimhouse.ca/wordpress/wp-content/uploads/2023/08/UTA-Sept15-RahaelSugarfungus-Eventbrite.png
ORGANIZER;CN="VIM House":MAILTO:info(at)vimhouse.ca
END:VEVENT
END:VCALENDAR