BEGIN:VCALENDAR
VERSION:2.0
PRODID:-//VIM House - ECPv6.9.0//NONSGML v1.0//EN
CALSCALE:GREGORIAN
METHOD:PUBLISH
X-WR-CALNAME:VIM House
X-ORIGINAL-URL:https://vimhouse.ca
X-WR-CALDESC:Events for VIM House
REFRESH-INTERVAL;VALUE=DURATION:PT1H
X-Robots-Tag:noindex
X-PUBLISHED-TTL:PT1H
BEGIN:VTIMEZONE
TZID:America/Vancouver
BEGIN:DAYLIGHT
TZOFFSETFROM:-0800
TZOFFSETTO:-0700
TZNAME:PDT
DTSTART:20240310T100000
END:DAYLIGHT
BEGIN:STANDARD
TZOFFSETFROM:-0700
TZOFFSETTO:-0800
TZNAME:PST
DTSTART:20241103T090000
END:STANDARD
END:VTIMEZONE
BEGIN:VEVENT
DTSTART;TZID=America/Vancouver:20241019T193000
DTEND;TZID=America/Vancouver:20241019T220000
DTSTAMP:20260425T074804
CREATED:20240912T231324Z
LAST-MODIFIED:20240912T231324Z
UID:10000036-1729366200-1729375200@vimhouse.ca
SUMMARY:John Kameel Farah
DESCRIPTION:John Kameel Farah (Berlin/Toronto)\n“Baroque-Mid-Eastern-Cyberpunk” compositions and reimagined classics on piano\, synthesizers\, and electronics \nSaturday\, October 19th\, 2024\nShow: 7:30 pm\nDoors: 7:00 pm \nVenue: The Annex\, 823 Seymour St\, Vancouver\, BC V6B 3L4 \nGET TICKETS HERE\nGeneral Admission (Sliding Scale) – $30 / $25 / $20\nSeniors / Students / Under 19 – $20\nChildren Under 12 – $15 \nSubject to availability\, PWYC (Pay what you can) tickets will be available at the door at 7:00 pm. \nPlease reach out to info@vimhouse.ca if you would like to attend but are facing financial barriers. \nThis event is hosted on the unceded and traditional lands of the Coast Salish peoples – sḵwx̱wú7mesh (Squamish)\, selíʔlwitulh (Tsleil-Waututh)\, and xʷməθkʷəy̓əm (Musqueam) Nations. \nVancouver Independent Music Centre Society (VIM) invites you to an evening with Palestinian Canadian pianist\, composer\, and electronic artist John Kameel Farah at The Annex in Vancouver\, BC\, on Saturday\, October 19th\, 2024. \nFarah’s performance will include his unique compositions for piano\, synthesizers\, and electronics\, alongside interpretations of Renaissance master William Byrd and electronic renditions of J.S. Bach’s Well-Tempered Clavier. \nJohn Kameel Farah describes his art as creating “holistic experiences that fuse the elegance of Baroque and Early Music with the rich textures of Arabic Music\, Improvisation\, and Electronic Music.” \n“I interlace piano loops with sequenced drum machines and intricate electronic arrangements\, connected by spontaneous improvisations. I sometimes refer to my music as ‘Baroque-Mid-Eastern-Cyberpunk.’” \n \nAbout John Kameel Farah:\nJohn Kameel Farah is a Palestinian-Canadian composer and pianist whose music embraces aspects of Baroque and Early Music\, Middle-Eastern Music\, Improvisation and Electronic Music. He studied at the University of Toronto\, where he received the Glenn Gould Composition Award twice. He continued studies with Terry Riley in California\, and at the Arabic Music Retreat in Hartford. \nFarah combines the piano with electronics\, moving freely between intuitive improvisations and meticulously structured compositions. His project “Music for Organ & Synthesizers” treats the organ as the first\, ancient synthesizer\, which he presents in churches and cathedrals across Europe. \nIn 2023 he was awarded the Johanna Metcalf Award for the Performing Arts in Ontario\, and was a guest-performer with Tangerine Dream in Toronto. Earlier this year\, he performed his own works at the Berlin Philharmonic. \nJohn has performed across Europe and North America\, as well as South Korea\, Brazil\, Mexico\, and Palestine\, giving master-classes at the Edward Said National Conservatory in Ramallah in 2003. He is currently doing a residency with the National Arts Centre Orchestra\, writing a piano concerto to be premiered in 2025. www.johnfarah.com \nAbout Vancouver Independent Music Centre Society:About Vancouver Independent Music Centre Society (VIM):\nVIM is a non-profit\, charitable organization established in 2011 with a mandate to develop a well-designed\, central\, accessible\, sustainable and culturally diverse music centre based on feedback from hundreds of musicians\, music presenters\, concertgoers and managers among others. In 2018\, the City of Vancouver passed zoning at the Plaza of Nations to include a 20\,000 square foot music centre based on the VIM’s vision and plans. \nThis event is produced by the VIM with support from Canadian Heritage\, Canada Council for the Arts\, Government of BC\, City of Vancouver\, JTC Heersink Foundation and the MENA Film Festival. \nFor more information or interviews\, please contact Cindy Dai-Thiessen at communications@vimhouse.ca. \nVENUE NOTES:\nAll information including accessibility can be found on the ANNEX/Vancouver Civic Theatre website: https://vancouvercivictheatres.com/venues/annex \nShare this:FacebookTwitterPocket
URL:https://vimhouse.ca/event/john-kameel-farah/
LOCATION:Annex\, 823 Seymour Street\, Vancouver\, British Columbia\, V6B 3L4\, Canada
ATTACH;FMTTYPE=image/png:https://vimhouse.ca/wordpress/wp-content/uploads/2024/09/WEBSITE-1200-x-600-Banner-JOHN-KAMEEL-FARAH.png
ORGANIZER;CN="VIM House":MAILTO:info(at)vimhouse.ca
END:VEVENT
END:VCALENDAR