BEGIN:VCALENDAR
VERSION:2.0
PRODID:-//VIM House - ECPv6.9.0//NONSGML v1.0//EN
CALSCALE:GREGORIAN
METHOD:PUBLISH
X-ORIGINAL-URL:https://vimhouse.ca
X-WR-CALDESC:Events for VIM House
REFRESH-INTERVAL;VALUE=DURATION:PT1H
X-Robots-Tag:noindex
X-PUBLISHED-TTL:PT1H
BEGIN:VTIMEZONE
TZID:America/Vancouver
BEGIN:DAYLIGHT
TZOFFSETFROM:-0800
TZOFFSETTO:-0700
TZNAME:PDT
DTSTART:20260308T100000
END:DAYLIGHT
BEGIN:STANDARD
TZOFFSETFROM:-0700
TZOFFSETTO:-0800
TZNAME:PST
DTSTART:20261101T090000
END:STANDARD
END:VTIMEZONE
BEGIN:VEVENT
DTSTART;TZID=America/Vancouver:20260411T193000
DTEND;TZID=America/Vancouver:20260411T213000
DTSTAMP:20260424T092146
CREATED:20260318T003331Z
LAST-MODIFIED:20260318T003331Z
UID:10000046-1775935800-1775943000@vimhouse.ca
SUMMARY:CapU Choirs: In the Same Room
DESCRIPTION:Saturday\, April 11th\, 2026\n7:30 PM\nBlueshore Financial Centre for the Performing Arts\n(North Vancouver) \nVIM is proud to support this multigenerational\, multicultural\, multigenre show. Expect Baroque excerpts by Vivaldi\, sounds of the East\, works by Indigenous composers\, and popular favourites showcased through Capilano University’s choral ensembles. Featuring daring vocalist Shruti Ramani (Raagaverse)\, santoor virtuoso Saina Khaledi (Vashaan Ensemble)\, members of the Vancouver Intercultural Orchestra and Vancouver Symphony Orchestra\, and other ensembles. \nInspired by the late Stó:lō First Nations Elder Lee Maracle’s reminder that we must be in the same room to create a shared future\, this evening asks: now that we’re here\, what do we make together? \nLearn more and get tickets:https://www.capilanou.ca/student-services/community/blueshore-financial-centre-for-the-performing-arts/our-events/all-events/events/capu-choirs-in-the-same-room.php \nShare this:FacebookTwitterPocket
URL:https://vimhouse.ca/event/capu-choirs-in-the-same-room/
LOCATION:BC
ATTACH;FMTTYPE=image/jpeg:https://vimhouse.ca/wordpress/wp-content/uploads/2026/03/capu-choir-social.jpg
END:VEVENT
END:VCALENDAR