BEGIN:VCALENDAR
VERSION:2.0
PRODID:-//VIM House - ECPv6.9.0//NONSGML v1.0//EN
CALSCALE:GREGORIAN
METHOD:PUBLISH
X-ORIGINAL-URL:https://vimhouse.ca
X-WR-CALDESC:Events for VIM House
REFRESH-INTERVAL;VALUE=DURATION:PT1H
X-Robots-Tag:noindex
X-PUBLISHED-TTL:PT1H
BEGIN:VTIMEZONE
TZID:America/Vancouver
BEGIN:DAYLIGHT
TZOFFSETFROM:-0800
TZOFFSETTO:-0700
TZNAME:PDT
DTSTART:20260308T100000
END:DAYLIGHT
BEGIN:STANDARD
TZOFFSETFROM:-0700
TZOFFSETTO:-0800
TZNAME:PST
DTSTART:20261101T090000
END:STANDARD
END:VTIMEZONE
BEGIN:VEVENT
DTSTART;TZID=America/Vancouver:20260502T193000
DTEND;TZID=America/Vancouver:20260502T220000
DTSTAMP:20260424T091733
CREATED:20260318T003522Z
LAST-MODIFIED:20260318T003522Z
UID:10000047-1777750200-1777759200@vimhouse.ca
SUMMARY:Goodbye\, Strawberry Hill - Sharon Minemoto Album Release Concert
DESCRIPTION:Anvil Theatre & Vancouver Independent Music Centre presents \nGoodbye\, Strawberry Hill\nSaturday\, May 2\, 2026 | 7:30pm \nA concert celebrating the launch of Sharon Minemoto’s new album\, Goodbye\, Strawberry Hill (Cellar Music). This album tells her family’s stories\, joyful and sad\, from WWII to present day. \nFollowing the bombing of Pearl Harbour in December 1941\, the Canadian government interned people of Japanese ancestry due to fears of espionage\, widespread anti-Japanese racism\, and pressure from British Columbian politicians. Japanese Canadians were stripped of their civil rights and nearly 22\,000 people were forced to leave their homes\, many of whom were moved to internment camps. In 1942\, Sharon Minemoto’s mother’s family’s 10-acre strawberry farm in Strawberry Hill\, (Surrey-Delta) was confiscated by the government and her family then interned in Slocan\, BC. \nEven after the end of the war\, Japanese Canadians were forbidden to return to the West Coast. They were given two choices: move east of the Rockies or “Repatriate” to Japan. Sharon’s maternal grandparents made the difficult choice to take four of their six Canadian-born children by boat to Japan. As Canadians\, they would face years of hardship and discrimination in Japan before choosing to return to Canada. \nSharon’s father’s mother took her children to meet their grandmother in Japan when the war broke out. Without a home\, income or father\, the family was stranded near Hiroshima when the US atomic bomb was dropped. With his family stuck in Japan\, her grandfather was interned in a camp in Moose Jaw\, where he died. \nWith the support of the Japanese Canadian Legacies Society\, Sharon composed nine works for her quartet\, each inspired by and reflecting her family’s experience during WWII. These works would become the album Goodbye\, Strawberry Hill. \nShare this:FacebookTwitterPocket
URL:https://vimhouse.ca/event/goodbye-strawberry-hill-sharon-minemoto-album-release-concert/
LOCATION:The Anvil Theatre\, 777 Columbia St\, New Westminster\, BC\, V3M 1B6\, Canada
ATTACH;FMTTYPE=image/png:https://vimhouse.ca/wordpress/wp-content/uploads/2026/03/Strawberry-Hill-1200X600-Mailchimp.png
ORGANIZER;CN="VIM House":MAILTO:info(at)vimhouse.ca
END:VEVENT
END:VCALENDAR