BEGIN:VCALENDAR
VERSION:2.0
PRODID:-//VIM House - ECPv6.9.0//NONSGML v1.0//EN
CALSCALE:GREGORIAN
METHOD:PUBLISH
X-ORIGINAL-URL:https://vimhouse.ca
X-WR-CALDESC:Events for VIM House
REFRESH-INTERVAL;VALUE=DURATION:PT1H
X-Robots-Tag:noindex
X-PUBLISHED-TTL:PT1H
BEGIN:VTIMEZONE
TZID:America/Vancouver
BEGIN:DAYLIGHT
TZOFFSETFROM:-0800
TZOFFSETTO:-0700
TZNAME:PDT
DTSTART:20250309T100000
END:DAYLIGHT
BEGIN:STANDARD
TZOFFSETFROM:-0700
TZOFFSETTO:-0800
TZNAME:PST
DTSTART:20251102T090000
END:STANDARD
END:VTIMEZONE
BEGIN:VEVENT
DTSTART;TZID=America/Vancouver:20250522T200000
DTEND;TZID=America/Vancouver:20250522T220000
DTSTAMP:20260425T032539
CREATED:20250415T210500Z
LAST-MODIFIED:20250415T210822Z
UID:10000038-1747944000-1747951200@vimhouse.ca
SUMMARY:Music At The Cinemas - Nimkish & Cordie M. Sad
DESCRIPTION:Vancouver Independent Music Centre Society (VIM) Presents: \nMUSIC AT THE CINEMAS: NIMKISH & CORDIE M. SAD \nCurated by Rob Thomson \nThis event is hosted on the unceded and traditional lands of the Coast Salish peoples – sḵwx̱wú7mesh (Squamish)\, selíʔlwitulh (Tsleil-Waututh)\, and xʷməθkʷəy̓əm (Musqueam) Nations. \nThursday\, May 22nd\, 2025\nShow: 8:00 pm\nDoors: 7:30 pm \nVenue: Fox Cabaret – 2321 Main St\, Vancouver \nTickets: General Admission (Sliding Scale) – $15 to $25\nPWYC (Pay what you can) tickets may be available at the door if the show has not sold out. Please reach out to info@vimhouse.ca if you would like to attend but are facing financial barriers. \nAbout Nimkish: \n \nTo fully immerse in the multitudes of Indigenous rising star Nimkish is to honour the past\, look ahead to the future\, and bask in the resplendent present all at once. The Vancouver-based marvel-in-the-making is fearless in her lyricism\, confronting anti-Indigenous racism and colonial violence alongside other hard subjects like anxiety\, grief and heartache. To the great tradition of singer-songwriters healing through their music\, Nimkish brings a bright-eyed aim to flourish in all she has experienced. Stylistically\, Nimkish exists in a realm between Kehlani and King Princess\, softly orbiting Sabrina Claudio. \nHer lyrics give affirmation to past pain while living in the moment. To some it may sound like escapism\, to others it may sound like moxie-driven R&B-pop pulsing through the club. What’s certain is her fortitude — she’s an it-girl on a mission\, combining the coolness and creativity of the TikTok generation with the lucidity and confidence of a grown ass woman. \nAbout Cordie M. Sad: \n \nCordie M. Sad is an art rock project based in Vancouver\, BC\, led by vocalist Cordelia Donovan. Blending haunting melodies with vivid storytelling\, the music transforms raw emotion into immersive sonic landscapes. With influences ranging widely from pop to prog to punk\, each song is a journey through beauty\, pain\, and the spaces in between. \nKnown for its dynamic arrangements and unfiltered intensity\, Cordie M. Sad crafts music that lingers long after the final note. Whether through intricate instrumentation or stark vulnerability\, the project invites listeners into a world where connection and catharsis soothe our heartaches\, offering both reflection and release. \n___________________________________ \nVenue Accessibility: General admission tickets are standing room only with limited\, first-come-first serve bar seating along the back of the room. If you require seating in advance\, please email cindy[at]vimhouse.ca so we can accommodate your request. The main cabaret room is accessible through a ramped entrance. A wheelchair accessible washroom is available\, ask a staff member for assistance. \nAbout Vancouver Independent Music Centre Society (VIM): \nVIM is a non-profit\, charitable organization established in 2011 with a mandate to develop a well-designed\, central\, accessible\, sustainable and culturally diverse music centre based on feedback from hundreds of musicians\, music presenters\, concertgoers and managers among others. In 2018\, the City of Vancouver passed zoning at the Plaza of Nations to include a 20\,000 square foot music centre based on the VIM’s vision and plans. https://vimhouse.ca \nThis event is produced by the VIM with support from BC Arts Council\, Canadian Heritage\, Canada Council for the Arts\, Government of BC\, City of Vancouver\, and JTC Heersink Foundation. \nFor more information or interviews\, please contact Cindy Dai at communications@vimhouse.ca. \nShare this:FacebookTwitterPocket
URL:https://vimhouse.ca/event/music-at-the-cinemas-nimkish-cordie-m-sad/
LOCATION:Fox Cabaret\, 2321 Main St\, Vancouver\, British Columbia\, V5T 3C9\, Canada
CATEGORIES:Music at the Cinemas
ATTACH;FMTTYPE=image/png:https://vimhouse.ca/wordpress/wp-content/uploads/2025/04/WEB-SLIDER-NIMKISHCORDIE-M.-SAD.png
ORGANIZER;CN="VIM House":MAILTO:info(at)vimhouse.ca
END:VEVENT
END:VCALENDAR