BEGIN:VCALENDAR
VERSION:2.0
PRODID:-//VIM House - ECPv6.9.0//NONSGML v1.0//EN
CALSCALE:GREGORIAN
METHOD:PUBLISH
X-ORIGINAL-URL:https://vimhouse.ca
X-WR-CALDESC:Events for VIM House
REFRESH-INTERVAL;VALUE=DURATION:PT1H
X-Robots-Tag:noindex
X-PUBLISHED-TTL:PT1H
BEGIN:VTIMEZONE
TZID:America/Vancouver
BEGIN:DAYLIGHT
TZOFFSETFROM:-0800
TZOFFSETTO:-0700
TZNAME:PDT
DTSTART:20220313T100000
END:DAYLIGHT
BEGIN:STANDARD
TZOFFSETFROM:-0700
TZOFFSETTO:-0800
TZNAME:PST
DTSTART:20221106T090000
END:STANDARD
END:VTIMEZONE
BEGIN:VEVENT
DTSTART;TZID=America/Vancouver:20220730T193000
DTEND;TZID=America/Vancouver:20220730T213000
DTSTAMP:20260424T153247
CREATED:20221202T081052Z
LAST-MODIFIED:20221202T230713Z
UID:10000004-1659209400-1659216600@vimhouse.ca
SUMMARY:Noodle Connection
DESCRIPTION:Thoughtful\, literate songs about love\, distance and homeware. \nDon McGlashan: vocals\, guitar \n\n\n\n	\n\n\n\n\nDon McGlashan is one of New Zealand’s most highly regarded songwriters and musicians. He has five entries in APRA’s 100 Best Ever NZ Songs and has won many awards\, including two APRA Silver Scrolls (for NZ’s top songwriter.) He has a long-standing working relationship with Neil Finn\, and has toured as both a member of\, and opening act for Crowded House\, as well as collaborating with the likes of Paul Kelly and the Violent Femmes. The UK’ s Q Magazine described Don’s band The Mutton Birds as coming “from the same cerebral power-pop mother lode as Big Star and early REM”. In 1997 The Mutton Birds were  selected by The Tragically Hip to tour across Canada as part of their “Another Roadside Attraction”  extravaganza\, and they also opened for The Hip several times in the UK and the Netherlands during that period. McGlashan currently divides his time between Auckland and Vancouver\, where he performs regularly\, including acclaimed sets at the Vancouver Folk Music Festival in 2019. \n"A masterclass in song craft... with an inner world all his own." (Australian Rolling Stone) \ndonmcglashan.com \n\n\n\n\n\n\n\n\n	For more information and tickets: www.firehallartscentre.ca\nor call the Firehall Box Office at 604.689.0926 \n\nShare this:FacebookTwitterPocket
URL:https://vimhouse.ca/event/noodle-connection/
LOCATION:Firehall Arts Centre\, 280 East Cordova Street\, Vancouver\, British Columbia\, V6A 1L3\, Canada
CATEGORIES:Music in the Courtyard
ATTACH;FMTTYPE=image/jpeg:https://vimhouse.ca/wordpress/wp-content/uploads/2022/12/Courtyard-2022-1280X720-KRP.jpg
END:VEVENT
END:VCALENDAR