BEGIN:VCALENDAR
VERSION:2.0
PRODID:-//VIM House - ECPv6.9.0//NONSGML v1.0//EN
CALSCALE:GREGORIAN
METHOD:PUBLISH
X-ORIGINAL-URL:https://vimhouse.ca
X-WR-CALDESC:Events for VIM House
REFRESH-INTERVAL;VALUE=DURATION:PT1H
X-Robots-Tag:noindex
X-PUBLISHED-TTL:PT1H
BEGIN:VTIMEZONE
TZID:America/Vancouver
BEGIN:DAYLIGHT
TZOFFSETFROM:-0800
TZOFFSETTO:-0700
TZNAME:PDT
DTSTART:20240310T100000
END:DAYLIGHT
BEGIN:STANDARD
TZOFFSETFROM:-0700
TZOFFSETTO:-0800
TZNAME:PST
DTSTART:20241103T090000
END:STANDARD
END:VTIMEZONE
BEGIN:VEVENT
DTSTART;TZID=America/Vancouver:20240418T193000
DTEND;TZID=America/Vancouver:20240418T220000
DTSTAMP:20260425T144641
CREATED:20240223T231741Z
LAST-MODIFIED:20240324T021152Z
UID:10000030-1713468600-1713477600@vimhouse.ca
SUMMARY:Moneka Arabic Jazz with opening act Gord Grdina
DESCRIPTION:Thursday\, April 18th\, 2024\nShow: 7:30 pm\nDoors: 6:30 pm\nVenue: The Hollywood Theatre\, 3123 W Broadway\, Vancouver\, BC\nGet your tickets in advance: $30 (plus taxes & fees) \n \nExperience the transcendence of Ahmed Moneka‘s rich life and artistic voyage from Baghdad to Toronto. This rich musical endeavor blends traditional Iraqi melodies with vibrant African rhythms inherited from the Moneka Family. Jazz and blues serve as the perfect canvas to unite Ahmed’s Afro-Arabic roots with the talents of Toronto musicians\, creating a harmonious fusion of tradition and innovation. \nDrawing inspiration from ancient Iraqi stories and contemporary realities\, Ahmed crafts soul-stirring\, dance-inducing compositions that resonate locally and internationally. Ahmed’s life story unfolds as he bears witness to the enduring spirit of humanity\, igniting conversations about heritage\, resilience\, and the universal quest for freedom. \nMoneka Arabic Jazz is: \nAhmed Moneka – vocals \nWaleed Abdulhamid (Sudan) – bass guitar\, vocals\nDemetri Petsalakis – guitar\, oud\nMajd Sukar (Syria) – clarinet  \nSelcuk Suna (Turkey) – sax\nMax Senitt – drum kit \nWith an opening solo set by Juno award winning Oud / Guitarist\, Gordon Grdina. \n \nThis is the ensemble’s premier concert in Vancouver – you won’t want to miss out. Book your tickets NOW! \nShare this:FacebookTwitterPocket
URL:https://vimhouse.ca/event/moneka-arabic-jazz-2024/
LOCATION:The Hollywood Theatre\, 3123 W Broadway\, Vancouver\, BC\, V6K 2H2\, Canada
ATTACH;FMTTYPE=image/jpeg:https://vimhouse.ca/wordpress/wp-content/uploads/2024/02/studio-24-1-scaled-e1708730851983.jpg
ORGANIZER;CN="VIM House":MAILTO:info(at)vimhouse.ca
END:VEVENT
END:VCALENDAR