BEGIN:VCALENDAR
VERSION:2.0
PRODID:-//VIM House - ECPv6.9.0//NONSGML v1.0//EN
CALSCALE:GREGORIAN
METHOD:PUBLISH
X-ORIGINAL-URL:https://vimhouse.ca
X-WR-CALDESC:Events for VIM House
REFRESH-INTERVAL;VALUE=DURATION:PT1H
X-Robots-Tag:noindex
X-PUBLISHED-TTL:PT1H
BEGIN:VTIMEZONE
TZID:America/Vancouver
BEGIN:DAYLIGHT
TZOFFSETFROM:-0800
TZOFFSETTO:-0700
TZNAME:PDT
DTSTART:20240310T100000
END:DAYLIGHT
BEGIN:STANDARD
TZOFFSETFROM:-0700
TZOFFSETTO:-0800
TZNAME:PST
DTSTART:20241103T090000
END:STANDARD
END:VTIMEZONE
BEGIN:VEVENT
DTSTART;TZID=America/Vancouver:20240503T193000
DTEND;TZID=America/Vancouver:20240503T220000
DTSTAMP:20260425T132131
CREATED:20240223T235904Z
LAST-MODIFIED:20240314T204437Z
UID:10000031-1714764600-1714773600@vimhouse.ca
SUMMARY:EAST OF THE SUN - SE:UM and Jasmine Jazz (New West)
DESCRIPTION:Friday\, May 3rd\, 2024\nShow: 7:30 PM\nDoors: 6:30 PM\nVenue: The Anvil Theatre -777 Columbia St\, New Westminster\, BC V3M 1B6\nGet your tickets in advance ($14-$28) \nA cultural celebration as renowned ensembles SE:UM (from Korea) and Jasmine Jazz share the stage for an evening of east-meets-west\, genre-defying exploration. \n \nSE:UM is a renowned Korean ensemble that masterfully combines traditional Korean folk melodies with shamanistic rhythms\, creating a sound that transcends borders. Celebrated for their innovative approach\, SE:UM brings their globally acclaimed performances\, featuring tracks from their latest albums\, “The Sense of Water” and “Korean Breath: Ten Thousand Waves”. \nJoon Lee (gayageum\, Korean percussion\, music director)\nJaeha Lee (contrabass & electric bass)\nJongsang Park (trumpet\, flugelhorn)\nMinhyung Lee (Korean percussion\, voice)\nHachul Song (alto & soprano saxophones) \n \nSharing the stage is the 2023 Westcoast Music Awards Instrumental Artist of the Year\, Jasmine Jazz. This unique ensemble blends traditional Chinese instruments with the vibrant rhythms of contemporary jazz. The result is a mesmerizing east-meets-west experience\, with a repertoire that seamlessly weaves together jazz standards\, traditional Chinese folk music\, and innovative original compositions. \n\n\n\n\nJodi Proznick (bass)\nTristan Paxton (guitar)\nJames Danderfer (clarinet/bass clarinet)\nJirong Huang (erhu)  \nZhongxi Wu (suona)\nSarah Yusha Tan (guzheng)\nLiam MacDonald (percussion) \n\n\n\n\n\n\n\n\n\n\n\nDon’t miss this extraordinary opportunity to witness the fusion of Korean and Chinese music with Western jazz. This series of concerts promises not only a cultural celebration but an exploration of beautiful harmonies and memorable musical dialogues. \n\n\n\n\n\n\n\n\nBook your tickets now and be a part of this transcendent musical experience! \n\n\n\n\n\n\n\nShare this:FacebookTwitterPocket
URL:https://vimhouse.ca/event/seum-jasmine-jazz-2024-nw/
LOCATION:The Anvil Theatre\, 777 Columbia St\, New Westminster\, BC\, V3M 1B6\, Canada
ATTACH;FMTTYPE=image/jpeg:https://vimhouse.ca/wordpress/wp-content/uploads/2024/02/thumbnail_5JasmineJazzSeum1920x1080Banner-e1711749412517.jpg
ORGANIZER;CN="VIM House":MAILTO:info(at)vimhouse.ca
END:VEVENT
BEGIN:VEVENT
DTSTART;TZID=America/Vancouver:20240504T193000
DTEND;TZID=America/Vancouver:20240504T220000
DTSTAMP:20260425T132131
CREATED:20240224T000230Z
LAST-MODIFIED:20240314T203937Z
UID:10000032-1714851000-1714860000@vimhouse.ca
SUMMARY:EAST OF THE SUN - SE:UM and Jasmine Jazz (Vancouver)
DESCRIPTION:Saturday\, May 4th\, 2024\nShow: 7:30 PM\nDoors: 6:30 PM\nVenue: Annex – 823 Seymour St\, Vancouver\, BC V6B 3L4\nGet your tickets in advance ($19.75+Taxes & Fes) \nA cultural celebration as renowned ensembles SE:UM (from Korea) and Jasmine Jazz share the stage for an evening of east-meets-west\, genre-defying exploration. \n \nSE:UM is a renowned Korean ensemble that masterfully combines traditional Korean folk melodies with shamanistic rhythms\, creating a sound that transcends borders. Celebrated for their innovative approach\, SE:UM brings their globally acclaimed performances\, featuring tracks from their latest albums\, “The Sense of Water” and “Korean Breath: Ten Thousand Waves”. \nJoon Lee (gayageum\, Korean percussion\, music director)\nJaeha Lee (contrabass & electric bass)\nJongsang Park (trumpet\, flugelhorn)\nMinhyung Lee (Korean percussion\, voice)\nHachul Song (alto & soprano saxophones) \n \nSharing the stage is the 2023 Westcoast Music Awards Instrumental Artist of the Year\, Jasmine Jazz. This unique ensemble blends traditional Chinese instruments with the vibrant rhythms of contemporary jazz. The result is a mesmerizing east-meets-west experience\, with a repertoire that seamlessly weaves together jazz standards\, traditional Chinese folk music\, and innovative original compositions. \n\n\n\n\nJodi Proznick (bass)\nTristan Paxton (guitar)\nJames Danderfer (clarinet/bass clarinet)\nJirong Huang (erhu)  \nZhongxi Wu (suona)\nSarah Yusha Tan (guzheng)\nLiam MacDonald (percussion) \n\n\n\n\n\n\n\n\n\n\n\nDon’t miss this extraordinary opportunity to witness the fusion of Korean and Chinese music with Western jazz. This series of concerts promises not only a cultural celebration but an exploration of beautiful harmonies and memorable musical dialogues. \n\n\n\n\n\n\n\n\nBook your tickets now and be a part of this transcendent musical experience! \n\n\n\n\n\n\n\nShare this:FacebookTwitterPocket
URL:https://vimhouse.ca/event/seum-jasmine-jazz-2024-van/
LOCATION:Annex\, 823 Seymour Street\, Vancouver\, British Columbia\, V6B 3L4\, Canada
ATTACH;FMTTYPE=image/jpeg:https://vimhouse.ca/wordpress/wp-content/uploads/2024/02/thumbnail_5JasmineJazzSeum1920x1080Banner-e1711749412517.jpg
ORGANIZER;CN="VIM House":MAILTO:info(at)vimhouse.ca
END:VEVENT
BEGIN:VEVENT
DTSTART;TZID=America/Vancouver:20240512T140000
DTEND;TZID=America/Vancouver:20240512T160000
DTSTAMP:20260425T132131
CREATED:20240224T001418Z
LAST-MODIFIED:20240515T191709Z
UID:10000033-1715522400-1715529600@vimhouse.ca
SUMMARY:Drumming Up Spirit - Tzo'kam and Sawagi Taiko
DESCRIPTION:*** SOLD OUT ***\nSaturday\, May 12th\, 2024\nShow: 2:00 PM\nDoors: 1:00 PM\nVenue: Annex \nGet ready to experience an electrifying evening of drumming and rhythm at the Annex in Vancouver\, BC\, Canada. Join us for an unforgettable in-person event showcasing the incredible talents of Sawagi Taiko and Tzo’kam. \nThis event features two groups of multi-generational Indigenous and East Asian artists\, drawn together by their passion and dedication to traditional music in contemporary times\, a community focus\, and the power of these shared experiences. Bringing Sawagi Taiko and Tzo’kam back together for one exhilarating performance\, Drumming up Spirit isn’t one to miss. \n \nPower\, Passion\, and Rhythm. Canada’s first all-women Taiko group. Founded in 1990\, Sawagi Taiko is a multi-generational group of women of East Asian and Indigenous ancestry\, brought together by our shared passion for the Japanese drum. With thunderous drum beats\, stirring vocals\, and martial-arts inspired choreography\, we share the empowerment and exhilaration we feel through taiko with our diverse audiences. We harness the power of the drum to support feminist and social justice ideals. \n \nTzo’kam\, meaning “chickadee” and “visitors are coming” in the Stl’atl’imx language\, brings to life the songs its founder\, the late Flora Wallace learned as a child in Xaxlip (near Lillooet). The traditional songs have been kept alive by her son Russell Wallace along with members of his family and community. Tzo’kam wishes to share the teachings and traditions passed on by the elders with all communities. \nFeel the energy and spirit as the thunderous beats fill the air\, captivating your senses. Don’t miss out on this one-of-a-kind performance that will leave you inspired and uplifted. Mark your calendars and join us for Drumming Up Spirit featuring Sawagi Taiko and Tzo’kam! \nThis event is produced by the VIM with support from City of Vancouver – Cultural Services\, Canadian Heritage\, JTC Heersink Family Foundation\, Vancouver Civic Theatres and the Powell Street Festival Society. \nShare this:FacebookTwitterPocket
URL:https://vimhouse.ca/event/tzokam-sawagi-2024/
LOCATION:Annex\, 823 Seymour Street\, Vancouver\, British Columbia\, V6B 3L4\, Canada
CATEGORIES:Past Concerts
ATTACH;FMTTYPE=image/jpeg:https://vimhouse.ca/wordpress/wp-content/uploads/2024/02/DrummingUpSpirit2024May12_Eventbrite_Asset.jpg
ORGANIZER;CN="VIM House":MAILTO:info(at)vimhouse.ca
END:VEVENT
END:VCALENDAR