BEGIN:VCALENDAR
VERSION:2.0
PRODID:-//VIM House - ECPv6.9.0//NONSGML v1.0//EN
CALSCALE:GREGORIAN
METHOD:PUBLISH
X-WR-CALNAME:VIM House
X-ORIGINAL-URL:https://vimhouse.ca
X-WR-CALDESC:Events for VIM House
REFRESH-INTERVAL;VALUE=DURATION:PT1H
X-Robots-Tag:noindex
X-PUBLISHED-TTL:PT1H
BEGIN:VTIMEZONE
TZID:America/Vancouver
BEGIN:DAYLIGHT
TZOFFSETFROM:-0800
TZOFFSETTO:-0700
TZNAME:PDT
DTSTART:20240310T100000
END:DAYLIGHT
BEGIN:STANDARD
TZOFFSETFROM:-0700
TZOFFSETTO:-0800
TZNAME:PST
DTSTART:20241103T090000
END:STANDARD
END:VTIMEZONE
BEGIN:VEVENT
DTSTART;TZID=America/Vancouver:20240503T193000
DTEND;TZID=America/Vancouver:20240503T220000
DTSTAMP:20260424T095327
CREATED:20240223T235904Z
LAST-MODIFIED:20240314T204437Z
UID:10000031-1714764600-1714773600@vimhouse.ca
SUMMARY:EAST OF THE SUN - SE:UM and Jasmine Jazz (New West)
DESCRIPTION:Friday\, May 3rd\, 2024\nShow: 7:30 PM\nDoors: 6:30 PM\nVenue: The Anvil Theatre -777 Columbia St\, New Westminster\, BC V3M 1B6\nGet your tickets in advance ($14-$28) \nA cultural celebration as renowned ensembles SE:UM (from Korea) and Jasmine Jazz share the stage for an evening of east-meets-west\, genre-defying exploration. \n \nSE:UM is a renowned Korean ensemble that masterfully combines traditional Korean folk melodies with shamanistic rhythms\, creating a sound that transcends borders. Celebrated for their innovative approach\, SE:UM brings their globally acclaimed performances\, featuring tracks from their latest albums\, “The Sense of Water” and “Korean Breath: Ten Thousand Waves”. \nJoon Lee (gayageum\, Korean percussion\, music director)\nJaeha Lee (contrabass & electric bass)\nJongsang Park (trumpet\, flugelhorn)\nMinhyung Lee (Korean percussion\, voice)\nHachul Song (alto & soprano saxophones) \n \nSharing the stage is the 2023 Westcoast Music Awards Instrumental Artist of the Year\, Jasmine Jazz. This unique ensemble blends traditional Chinese instruments with the vibrant rhythms of contemporary jazz. The result is a mesmerizing east-meets-west experience\, with a repertoire that seamlessly weaves together jazz standards\, traditional Chinese folk music\, and innovative original compositions. \n\n\n\n\nJodi Proznick (bass)\nTristan Paxton (guitar)\nJames Danderfer (clarinet/bass clarinet)\nJirong Huang (erhu)  \nZhongxi Wu (suona)\nSarah Yusha Tan (guzheng)\nLiam MacDonald (percussion) \n\n\n\n\n\n\n\n\n\n\n\nDon’t miss this extraordinary opportunity to witness the fusion of Korean and Chinese music with Western jazz. This series of concerts promises not only a cultural celebration but an exploration of beautiful harmonies and memorable musical dialogues. \n\n\n\n\n\n\n\n\nBook your tickets now and be a part of this transcendent musical experience!
URL:https://vimhouse.ca/event/seum-jasmine-jazz-2024-nw/
LOCATION:The Anvil Theatre\, 777 Columbia St\, New Westminster\, BC\, V3M 1B6\, Canada
ATTACH;FMTTYPE=image/jpeg:https://vimhouse.ca/wordpress/wp-content/uploads/2024/02/thumbnail_5JasmineJazzSeum1920x1080Banner-e1711749412517.jpg
ORGANIZER;CN="VIM House":MAILTO:info(at)vimhouse.ca
END:VEVENT
END:VCALENDAR